Workbook

Sheet 지원조건 및 유의사항
A1: 구분 | B1: 지원조건
A2: 공 통 | B2: ◦「국가연구개발사업 연구개발비 사용 기준」에 따른 석사·박사 학위과정(통합과정 포함) 중인 학생연구자 및 연구원과정생으로 등록한 수료생
B3: ◦ 4대보험에 가입되어 있지 않은 전일제 학생연구자 ※필수제출자료: 건강보험자격득실확인서
A4: 매칭형 | B4: ◦ 연구책임자가 석사과정 月660,000원, 박사·석박사통합과정 月900,000원 매칭을 확약한 학생연구자
A5: 선발형 (교원당 1명 지원) | B5: ◦ 연구책임자계정 이월금이 1천만원 미만이며 최초 임용일로부터 5년 이내인 교원이 추천한 학생연구자
B6: ◦ 연구책임자계정 이월금이 없으며, 연구과제 종료 후 1년 동안 후속과제가 없는 전임교원이 추천한 학생연구자
B7: ◦ 기타 특별지원이 필요한 경우 사업 추진위원회에서 승인한 학생연구자
A9: 유의사항
A10: ◦ (중요!) 용역인건비, BK장학금, 학생이 책임자인 과제 등 산단회계로 지원되는 학생인건비와 타대학에서 받고 있는 학생인건비가 있는 경우 매칭형 서식(풀링제 외) 활용하여 관련정보 기입 후 계정대체금액 직접 입력(학생별 작성) ◦ 정확한 학생 학번정보 입력이 되어야 값이 들어가며 유효하지 않을 경우 입력되지 않음 (※ 수료학생(연구원과정생)의 경우 학번뒤에 0251값을 넣어야 조회 가능) ◦ 연구책임자 계정에서 기관 계정으로 대체된 학생인건비는 학생이 중간에 그만두더라도 연구책임자계정으로 재이체 불가 (※ 해당사항의 경우 동일 학위의 다른 대학원생으로 변경 가능) ◦ 해당 지원사업은 이공계 전일제 대학원생 지원사업으로 이공계, 전일제 여부에 연구책임자의 확인 필수 (※ 미체크 시 지원 대상에서 제외 될 수 있음) ◦ 선발형 지원은 교원당 대학원생(박사 or 석사) 1명에 대해 최대 1년까지 지원가능하고, 1차년도는 9개월 지원 예정

Sheet (선택1) 매칭형 서식
A1: 2025년 이공계 연구생활장려금 지원신청서(매칭형)
A3: 연번 | B3: 학번 | C3: 이름 | D3: 학위과정 | E3: 학기정보 | F3: 국적 | G3: 지도교수 | H3: 계정대체금액 | I3: 이공계 여부 확인 | J3: 전일제 여부 확인
A4: 1 | C4: =VLOOKUP(B4,명단!$B$1:$H$2768,2,FALSE) -> #N/A | D4: =VLOOKUP(B4,명단!$B$1:$H$2768,3,FALSE) -> #N/A | E4: =VLOOKUP(B4,명단!$B$1:$H$2768,4,FALSE) -> #N/A | F4: =VLOOKUP(B4,명단!$B$1:$H$2768,5,FALSE) -> #N/A | G4: =VLOOKUP(B4,명단!$B$1:$H$2768,6,FALSE) -> #N/A | H4: =IF(D4="석사과정",660000*9,900000*9) -> #N/A
A5: 2 | C5: =VLOOKUP(B5,명단!$B$1:$H$2768,2,FALSE) -> #N/A | D5: =VLOOKUP(B5,명단!$B$1:$H$2768,3,FALSE) -> #N/A | E5: =VLOOKUP(B5,명단!$B$1:$H$2768,4,FALSE) -> #N/A | F5: =VLOOKUP(B5,명단!$B$1:$H$2768,5,FALSE) -> #N/A | G5: =VLOOKUP(B5,명단!$B$1:$H$2768,6,FALSE) -> #N/A | H5: =IF(D5="석사과정",660000*9,900000*9) -> #N/A
A6: 3 | C6: =VLOOKUP(B6,명단!$B$1:$H$2768,2,FALSE) -> #N/A | D6: =VLOOKUP(B6,명단!$B$1:$H$2768,3,FALSE) -> #N/A | E6: =VLOOKUP(B6,명단!$B$1:$H$2768,4,FALSE) -> #N/A | F6: =VLOOKUP(B6,명단!$B$1:$H$2768,5,FALSE) -> #N/A | G6: =VLOOKUP(B6,명단!$B$1:$H$2768,6,FALSE) -> #N/A | H6: =IF(D6="석사과정",660000*9,900000*9) -> #N/A
A7: 4 | C7: =VLOOKUP(B7,명단!$B$1:$H$2768,2,FALSE) -> #N/A | D7: =VLOOKUP(B7,명단!$B$1:$H$2768,3,FALSE) -> #N/A | E7: =VLOOKUP(B7,명단!$B$1:$H$2768,4,FALSE) -> #N/A | F7: =VLOOKUP(B7,명단!$B$1:$H$2768,5,FALSE) -> #N/A | G7: =VLOOKUP(B7,명단!$B$1:$H$2768,6,FALSE) -> #N/A | H7: =IF(D7="석사과정",660000*9,900000*9) -> #N/A
A8: 5 | C8: =VLOOKUP(B8,명단!$B$1:$H$2768,2,FALSE) -> #N/A | D8: =VLOOKUP(B8,명단!$B$1:$H$2768,3,FALSE) -> #N/A | E8: =VLOOKUP(B8,명단!$B$1:$H$2768,4,FALSE) -> #N/A | F8: =VLOOKUP(B8,명단!$B$1:$H$2768,5,FALSE) -> #N/A | G8: =VLOOKUP(B8,명단!$B$1:$H$2768,6,FALSE) -> #N/A | H8: =IF(D8="석사과정",660000*9,900000*9) -> #N/A
A9: 6 | C9: =VLOOKUP(B9,명단!$B$1:$H$2768,2,FALSE) -> #N/A | D9: =VLOOKUP(B9,명단!$B$1:$H$2768,3,FALSE) -> #N/A | E9: =VLOOKUP(B9,명단!$B$1:$H$2768,4,FALSE) -> #N/A | F9: =VLOOKUP(B9,명단!$B$1:$H$2768,5,FALSE) -> #N/A | G9: =VLOOKUP(B9,명단!$B$1:$H$2768,6,FALSE) -> #N/A | H9: =IF(D9="석사과정",660000*9,900000*9) -> #N/A
A10: 7 | C10: =VLOOKUP(B10,명단!$B$1:$H$2768,2,FALSE) -> #N/A | D10: =VLOOKUP(B10,명단!$B$1:$H$2768,3,FALSE) -> #N/A | E10: =VLOOKUP(B10,명단!$B$1:$H$2768,4,FALSE) -> #N/A | F10: =VLOOKUP(B10,명단!$B$1:$H$2768,5,FALSE) -> #N/A | G10: =VLOOKUP(B10,명단!$B$1:$H$2768,6,FALSE) -> #N/A | H10: =IF(D10="석사과정",660000*9,900000*9) -> #N/A
A11: 8 | C11: =VLOOKUP(B11,명단!$B$1:$H$2768,2,FALSE) -> #N/A | D11: =VLOOKUP(B11,명단!$B$1:$H$2768,3,FALSE) -> #N/A | E11: =VLOOKUP(B11,명단!$B$1:$H$2768,4,FALSE) -> #N/A | F11: =VLOOKUP(B11,명단!$B$1:$H$2768,5,FALSE) -> #N/A | G11: =VLOOKUP(B11,명단!$B$1:$H$2768,6,FALSE) -> #N/A | H11: =IF(D11="석사과정",660000*9,900000*9) -> #N/A
A12: 9 | C12: =VLOOKUP(B12,명단!$B$1:$H$2768,2,FALSE) -> #N/A | D12: =VLOOKUP(B12,명단!$B$1:$H$2768,3,FALSE) -> #N/A | E12: =VLOOKUP(B12,명단!$B$1:$H$2768,4,FALSE) -> #N/A | F12: =VLOOKUP(B12,명단!$B$1:$H$2768,5,FALSE) -> #N/A | G12: =VLOOKUP(B12,명단!$B$1:$H$2768,6,FALSE) -> #N/A | H12: =IF(D12="석사과정",660000*9,900000*9) -> #N/A
A13: 10 | C13: =VLOOKUP(B13,명단!$B$1:$H$2768,2,FALSE) -> #N/A | D13: =VLOOKUP(B13,명단!$B$1:$H$2768,3,FALSE) -> #N/A | E13: =VLOOKUP(B13,명단!$B$1:$H$2768,4,FALSE) -> #N/A | F13: =VLOOKUP(B13,명단!$B$1:$H$2768,5,FALSE) -> #N/A | G13: =VLOOKUP(B13,명단!$B$1:$H$2768,6,FALSE) -> #N/A | H13: =IF(D13="석사과정",660000*9,900000*9) -> #N/A
A14: 11 | C14: =VLOOKUP(B14,명단!$B$1:$H$2768,2,FALSE) -> #N/A | D14: =VLOOKUP(B14,명단!$B$1:$H$2768,3,FALSE) -> #N/A | E14: =VLOOKUP(B14,명단!$B$1:$H$2768,4,FALSE) -> #N/A | F14: =VLOOKUP(B14,명단!$B$1:$H$2768,5,FALSE) -> #N/A | G14: =VLOOKUP(B14,명단!$B$1:$H$2768,6,FALSE) -> #N/A | H14: =IF(D14="석사과정",660000*9,900000*9) -> #N/A
A15: 12 | C15: =VLOOKUP(B15,명단!$B$1:$H$2768,2,FALSE) -> #N/A | D15: =VLOOKUP(B15,명단!$B$1:$H$2768,3,FALSE) -> #N/A | E15: =VLOOKUP(B15,명단!$B$1:$H$2768,4,FALSE) -> #N/A | F15: =VLOOKUP(B15,명단!$B$1:$H$2768,5,FALSE) -> #N/A | G15: =VLOOKUP(B15,명단!$B$1:$H$2768,6,FALSE) -> #N/A | H15: =IF(D15="석사과정",660000*9,900000*9) -> #N/A
... A18: 15 | C18: =VLOOKUP(B18,명단!$B$1:$H$2768,2,FALSE) -> #N/A | D18: =VLOOKUP(B18,명단!$B$1:$H$2768,3,FALSE) -> #N/A | E18: =VLOOKUP(B18,명단!$B$1:$H$2768,4,FALSE) -> #N/A | F18: =VLOOKUP(B18,명단!$B$1:$H$2768,5,FALSE) -> #N/A | G18: =VLOOKUP(B18,명단!$B$1:$H$2768,6,FALSE) -> #N/A | H18: =IF(D18="석사과정",660000*9,900000*9) -> #N/A
A19: 합계 | H19: =SUM(H4:H18) -> #N/A
A21: 해당 신청 연구원이 이공계 대학원생이며 타 기관에 4대보험이 가입되지 않은 전일제 대학원생임을 확인한 뒤, 위와 같이 이공계 연구생활장려금을 신청합니다.(지원기간: 2025.06.~2026.02.) (※ 2025년 이공계 연구생활장려금 운영지침에 의해 이공계 전일제 대학원생이 아닌 학생에게 지급하거나 학위별 30% 매칭되지 않았을 경우 전액 환수 조치될 수 있음) 또한, 위와 같이 연구책임자계정에서 기관계정(산학협력단계정)으로 학생인건비가 대체되는 것에 동의합니다.
A23: 2025. 5. .
A25: 연구책임자: 0 0 0 교수 (인)
A28: 강원대학교 산학협력단장 귀하

Sheet (선택2) 매칭형 서식(풀링제 외)
A1: 2025년 이공계 연구생활장려금 지원신청서(매칭형)
A3: 학번 | B3: 이름 | C3: 학위과정 | D3: 학기정보 | E3: 국적 | F3: 지도교수 | G3: 계정대체금액 | H3: 이공계 여부 확인 | I3: 전일제 여부 확인
B4: =VLOOKUP(A4,명단!$B$1:$H$2768,2,FALSE) -> #N/A | C4: =VLOOKUP(A4,명단!$B$1:$H$2768,3,FALSE) -> #N/A | D4: =VLOOKUP(A4,명단!$B$1:$H$2768,4,FALSE) -> #N/A | E4: =VLOOKUP(A4,명단!$B$1:$H$2768,5,FALSE) -> #N/A | F4: =VLOOKUP(A4,명단!$B$1:$H$2768,6,FALSE) -> #N/A | G4: 260000
G5: =SUM(G4:G4) -> 260000
A7: 통합관리계정 학생인건비 외 인건비지급 현황
A8: 연번 | B8: 과제성격 | C8: 지급기관 | D8: 연구책임자 | E8: 과제명 | H8: 참여기간 | I8: 월지급액
A9: 1 | B9: 타대학 | C9: 서울대학교 산학협력단 | D9: 김산단 | H9: 2025.06.01.~ 2025.02.28. | I9: 100000
A10: 2 | B10: 용역 | C10: 강원대학교 산학협력단 | D10: 홍길동 | H10: 2025.06.01.~ 2025.02.28. | I10: 100000
A11: 3 | B11: BK장학금 | C11: 강원대학교 산학협력단 | D11: 홍길동 | H11: 2025.06.01.~ 2025.02.28. | I11: 100000
A12: 4 | B12: 학생 연구책임자 | C12: 강원대학교 산학협력단 | D12: 김학생 | H12: 2025.06.01.~ 2025.02.28. | I12: 100000
A13: 합계 | I13: =SUM(I9:I12) -> 400000
A15: 해당 신청 연구원이 이공계 대학원생이며 타 기관에 4대보험이 가입되지 않은 전일제 대학원생임을 확인한 뒤, 위와 같이 이공계 연구생활장려금을 신청합니다.(지원기간: 2025.06.~2026.02.) (※ 2025년 이공계 연구생활장려금 운영지침에 의해 이공계 전일제 대학원생이 아닌 학생에게 지급하거나 학위별 30% 매칭되지 않았을 경우 전액 환수 조치될 수 있음) 또한, 위와 같이 연구책임자계정에서 기관계정(산학협력단계정)으로 학생인건비가 대체되는 것에 동의합니다.
A17: 2025. 5. .
A19: 연구책임자: 0 0 0 교수 (인)
A22: 강원대학교 산학협력단장 귀하

Sheet (선택3) 선발형 서식
A1: 2025년 이공계 연구생활장려금 지원신청서(선발형)
A3: 학번 | B3: 이름 | C3: 학위과정 | D3: 학기정보 | E3: 국적 | F3: 지도교수 | G3: 지원기간 | H3: 이공계 여부 확인 | I3: 전일제 여부 확인
B4: =VLOOKUP(A4,명단!$B$1:$H$2768,2,FALSE) -> #N/A | C4: =VLOOKUP(A4,명단!$B$1:$H$2768,3,FALSE) -> #N/A | D4: =VLOOKUP(A4,명단!$B$1:$H$2768,4,FALSE) -> #N/A | E4: =VLOOKUP(A4,명단!$B$1:$H$2768,5,FALSE) -> #N/A | F4: =VLOOKUP(A4,명단!$B$1:$H$2768,6,FALSE) -> #N/A | G4: 2025.06.01.~ 2026.02.28.
A6: 해당 신청 연구원이 이공계 대학원생이며 타 기관에 4대보험이 가입되지 않은 전일제 대학원생임을 확인한 뒤, 위와 같이 이공계 연구생활장려금을 신청합니다.(지원기간: 2025.06.~2026.02.) (※ 2025년 이공계 연구생활장려금 운영지침에 의해 이공계 전일제 대학원생이 아닌 학생에게 지급할 경우 전액 환수 조치될 수 있음)
A8: 2025. 5. .
A10: 연구책임자: 0 0 0 교수 (인)
A13: 강원대학교 산학협력단장 귀하

Sheet 명단
A1: 연번 | B1: 학번 | C1: 이름 | D1: 학위과정 | E1: 학기정보 | F1: 국적 | G1: 지도교수 | H1: 계정대체금액
A2: 1 | B2: 202316530 | C2: 가르세스 보하다 린다 다얀 | D2: 석사과정 | E2: 4 | F2: 콜롬비아 | G2: 박기복 | H2: =IF(D2="석사과정",660000*9,900000*9) -> 5940000
A3: 2 | B3: 202516022 | C3: 가지예바 오디나콘 | D3: 석사과정 | E3: 1 | F3: 우즈베키스탄 | G3: 김경열 | H3: =IF(D3="석사과정",660000*9,900000*9) -> 5940000
A4: 3 | B4: 202316495 | C4: 갈준염 | D4: 석사과정 | E4: 4 | F4: 중국 | G4: 김영국 | H4: =IF(D4="석사과정",660000*9,900000*9) -> 5940000
A5: 4 | B5: 202415331 | C5: 갈홍유 | D5: 박사과정 | E5: 2 | F5: 중국 | G5: 박은옥 | H5: =IF(D5="석사과정",660000*9,900000*9) -> 8100000
A6: 5 | B6: 202415027 | C6: 갈효미 | D6: 박사과정 | E6: 3 | F6: 중국 | G6: 장경풍 | H6: =IF(D6="석사과정",660000*9,900000*9) -> 8100000
A7: 6 | B7: 202515024 | C7: 감욱동 | D7: 박사과정 | E7: 1 | F7: 중국 | G7: 여신 | H7: =IF(D7="석사과정",660000*9,900000*9) -> 8100000
A8: 7 | B8: 202515211 | C8: 강경식 | D8: 박사과정 | E8: 1 | F8: 대한민국 | G8: 김대현 | H8: =IF(D8="석사과정",660000*9,900000*9) -> 8100000
A9: 8 | B9: 202315529 | C9: 강규훈 | D9: 통합과정 | E9: 4 | F9: 대한민국 | G9: 이대원 | H9: =IF(D9="석사과정",660000*9,900000*9) -> 8100000
A10: 9 | B10: 202516296 | C10: 강민경 | D10: 석사과정 | E10: 1 | F10: 대한민국 | G10: 김진철 | H10: =IF(D10="석사과정",660000*9,900000*9) -> 5940000
A11: 10 | B11: 202516127 | C11: 강민지 | D11: 석사과정 | E11: 1 | F11: 대한민국 | G11: 이윤숙 | H11: =IF(D11="석사과정",660000*9,900000*9) -> 5940000
A12: 11 | B12: 202416290 | C12: 강민지 | D12: 석사과정 | E12: 3 | F12: 대한민국 | G12: 임정대 | H12: =IF(D12="석사과정",660000*9,900000*9) -> 5940000
A13: 12 | B13: 202515125 | C13: 강범서 | D13: 박사과정 | E13: 1 | F13: 대한민국 | G13: 김근영 | H13: =IF(D13="석사과정",660000*9,900000*9) -> 8100000
... A42: 41 | B42: 202416096 | C42: 고서림 | D42: 석사과정 | E42: 3 | F42: 대한민국 | G42: 안진옥 | H42: =IF(D42="석사과정",660000*9,900000*9) -> 5940000
A43: 42 | B43: 202515197 | C43: 고석호 | D43: 박사과정 | E43: 1 | F43: 대한민국 | H43: =IF(D43="석사과정",660000*9,900000*9) -> 8100000
A44: 43 | B44: 202315507 | C44: 고성주 | D44: 통합과정 | E44: 5 | F44: 대한민국 | G44: 김준형 | H44: =IF(D44="석사과정",660000*9,900000*9) -> 8100000
A45: 44 | B45: 202415510 | C45: 고소정 | D45: 통합과정 | E45: 3 | F45: 대한민국 | G45: 장은비 | H45: =IF(D45="석사과정",660000*9,900000*9) -> 8100000
A46: 45 | B46: 202415324 | C46: 고승모 | D46: 박사과정 | E46: 2 | F46: 대한민국 | G46: 장호창 | H46: =IF(D46="석사과정",660000*9,900000*9) -> 8100000
A47: 46 | B47: 202416376 | C47: 고영현 | D47: 석사과정 | E47: 3 | F47: 대한민국 | G47: 박용재 | H47: =IF(D47="석사과정",660000*9,900000*9) -> 5940000
A48: 47 | B48: 202416037 | C48: 고원 | D48: 석사과정 | E48: 3 | F48: 중국 | G48: 장경풍 | H48: =IF(D48="석사과정",660000*9,900000*9) -> 5940000
A49: 48 | B49: 202415297 | C49: 고원석 | D49: 박사과정 | E49: 2 | F49: 대한민국 | G49: 곽경환 | H49: =IF(D49="석사과정",660000*9,900000*9) -> 8100000
A50: 49 | B50: 202416321 | C50: 고은아 | D50: 석사과정 | E50: 3 | F50: 대한민국 | G50: 남수경 | H50: =IF(D50="석사과정",660000*9,900000*9) -> 5940000
A51: 50 | B51: 202415028 | C51: 고을가 | D51: 박사과정 | E51: 3 | F51: 중국 | G51: 장경풍 | H51: =IF(D51="석사과정",660000*9,900000*9) -> 8100000
A52: 51 | B52: 202528031 | C52: 고지석 | D52: 석사과정 | E52: 1 | F52: 대한민국 | H52: =IF(D52="석사과정",660000*9,900000*9) -> 5940000
A53: 52 | B53: 202416126 | C53: 고태용 | D53: 석사과정 | E53: 3 | F53: 대한민국 | G53: 하권수 | H53: =IF(D53="석사과정",660000*9,900000*9) -> 5940000
A54: 53 | B54: 202416027 | C54: 고푸로바 무야자나 | D54: 석사과정 | E54: 3 | F54: 우즈베키스탄 | G54: 장경풍 | H54: =IF(D54="석사과정",660000*9,900000*9) -> 5940000
A55: 54 | B55: 202415120 | C55: 고한응 | D55: 박사과정 | E55: 3 | F55: 대한민국 | G55: 문상석 | H55: =IF(D55="석사과정",660000*9,900000*9) -> 8100000
A56: 55 | B56: 202416004 | C56: 공방 | D56: 석사과정 | E56: 3 | F56: 중국 | G56: 한경자 | H56: =IF(D56="석사과정",660000*9,900000*9) -> 5940000
A57: 56 | B57: 202515142 | C57: 공선주 | D57: 박사과정 | E57: 1 | F57: 대한민국 | H57: =IF(D57="석사과정",660000*9,900000*9) -> 8100000
A58: 57 | B58: 202315268 | C58: 공유우 | D58: 박사과정 | E58: 4 | F58: 중국 | G58: 박은옥 | H58: =IF(D58="석사과정",660000*9,900000*9) -> 8100000
A59: 58 | B59: 202415132 | C59: 공윤영 | D59: 박사과정 | E59: 3 | F59: 대한민국 | G59: 정은경 | H59: =IF(D59="석사과정",660000*9,900000*9) -> 8100000
A60: 59 | B60: 202516356 | C60: 공윤희 | D60: 석사과정 | E60: 1 | F60: 대한민국 | H60: =IF(D60="석사과정",660000*9,900000*9) -> 5940000
A61: 60 | B61: 202415334 | C61: 곽가훤 | D61: 박사과정 | E61: 2 | F61: 중국 | G61: 박은옥 | H61: =IF(D61="석사과정",660000*9,900000*9) -> 8100000
A62: 61 | B62: 202415029 | C62: 곽강염 | D62: 박사과정 | E62: 3 | F62: 중국 | G62: 장경풍 | H62: =IF(D62="석사과정",660000*9,900000*9) -> 8100000
A63: 62 | B63: 201815211 | C63: 곽대경 | D63: 박사과정 | E63: 4 | F63: 대한민국 | G63: 남우동 | H63: =IF(D63="석사과정",660000*9,900000*9) -> 8100000
A64: 63 | B64: 202316461 | C64: 곽도현 | D64: 석사과정 | E64: 4 | F64: 대한민국 | G64: 최선심 | H64: =IF(D64="석사과정",660000*9,900000*9) -> 5940000
A65: 64 | B65: 202416377 | C65: 곽명규 | D65: 석사과정 | E65: 3 | F65: 대한민국 | G65: 이형석 | H65: =IF(D65="석사과정",660000*9,900000*9) -> 5940000
A66: 65 | B66: 202516241 | C66: 곽민규 | D66: 석사과정 | E66: 1 | F66: 대한민국 | G66: 윤경구 | H66: =IF(D66="석사과정",660000*9,900000*9) -> 5940000
A67: 66 | B67: 202516135 | C67: 곽신이 | D67: 석사과정 | E67: 1 | F67: 대한민국 | G67: 양화선 | H67: =IF(D67="석사과정",660000*9,900000*9) -> 5940000
A68: 67 | B68: 202415335 | C68: 곽양남 | D68: 박사과정 | E68: 2 | F68: 중국 | G68: 박은옥 | H68: =IF(D68="석사과정",660000*9,900000*9) -> 8100000
A69: 68 | B69: 202415030 | C69: 곽우진 | D69: 박사과정 | E69: 3 | F69: 중국 | G69: 장경풍 | H69: =IF(D69="석사과정",660000*9,900000*9) -> 8100000
A70: 69 | B70: 202415162 | C70: 곽유신 | D70: 박사과정 | E70: 3 | F70: 대한민국 | G70: 정은주 | H70: =IF(D70="석사과정",660000*9,900000*9) -> 8100000
A71: 70 | B71: 202416136 | C71: 곽윤영 | D71: 석사과정 | E71: 3 | F71: 대한민국 | G71: 서진호 | H71: =IF(D71="석사과정",660000*9,900000*9) -> 5940000
A72: 71 | B72: 202416378 | C72: 곽재우 | D72: 석사과정 | E72: 3 | F72: 대한민국 | G72: 임광석 | H72: =IF(D72="석사과정",660000*9,900000*9) -> 5940000
... A99: 98 | B99: 202428063 | C99: 권민지 | D99: 석사과정 | E99: 2 | F99: 대한민국 | G99: 김상돌 | H99: =IF(D99="석사과정",660000*9,900000*9) -> 5940000
A100: 99 | B100: 202528511 | C100: 권병성 | D100: 박사과정 | E100: 1 | F100: 대한민국 | H100: =IF(D100="석사과정",660000*9,900000*9) -> 8100000
A101: 100 | B101: 202416104 | C101: 권석민 | D101: 석사과정 | E101: 3 | F101: 대한민국 | G101: 최종안 | H101: =IF(D101="석사과정",660000*9,900000*9) -> 5940000
A102: 101 | B102: 202416206 | C102: 권선아 | D102: 석사과정 | E102: 3 | F102: 대한민국 | G102: 최정우 | H102: =IF(D102="석사과정",660000*9,900000*9) -> 5940000
A103: 102 | B103: 202328903 | C103: 권성훈 | D103: 통합과정 | E103: 5 | F103: 대한민국 | G103: 백진호 | H103: =IF(D103="석사과정",660000*9,900000*9) -> 8100000
A104: 103 | B104: 202415519 | C104: 권수현 | D104: 통합과정 | E104: 3 | F104: 대한민국 | G104: 임주현 | H104: =IF(D104="석사과정",660000*9,900000*9) -> 8100000
A105: 104 | B105: 202328053 | C105: 권순영 | D105: 석사과정 | E105: 4 | F105: 대한민국 | G105: 김상돌 | H105: =IF(D105="석사과정",660000*9,900000*9) -> 5940000
A106: 105 | B106: 202515147 | C106: 권순율 | D106: 박사과정 | E106: 1 | F106: 대한민국 | G106: 조경남 | H106: =IF(D106="석사과정",660000*9,900000*9) -> 8100000
A107: 106 | B107: 202516425 | C107: 권순주 | D107: 석사과정 | E107: 1 | F107: 대한민국 | G107: 황인철 | H107: =IF(D107="석사과정",660000*9,900000*9) -> 5940000
A108: 107 | B108: 202516389 | C108: 권순찬 | D108: 석사과정 | E108: 1 | F108: 대한민국 | G108: 박주병 | H108: =IF(D108="석사과정",660000*9,900000*9) -> 5940000
A109: 108 | B109: 202415195 | C109: 권용범 | D109: 박사과정 | E109: 3 | F109: 대한민국 | G109: 강호민 | H109: =IF(D109="석사과정",660000*9,900000*9) -> 8100000
A110: 109 | B110: 202416144 | C110: 권용범 | D110: 석사과정 | E110: 3 | F110: 대한민국 | G110: 정우돈 | H110: =IF(D110="석사과정",660000*9,900000*9) -> 5940000
A111: 110 | B111: 202315234 | C111: 권원혁 | D111: 박사과정 | E111: 4 | F111: 대한민국 | G111: 김선희 | H111: =IF(D111="석사과정",660000*9,900000*9) -> 8100000
A112: 111 | B112: 202528516 | C112: 권유화 | D112: 박사과정 | E112: 1 | F112: 대한민국 | H112: =IF(D112="석사과정",660000*9,900000*9) -> 8100000
A113: 112 | B113: 202515226 | C113: 권은지 | D113: 박사과정 | E113: 1 | F113: 대한민국 | G113: 최인수 | H113: =IF(D113="석사과정",660000*9,900000*9) -> 8100000
A114: 113 | B114: 202416461 | C114: 권정인 | D114: 석사과정 | E114: 3 | F114: 대한민국 | G114: 고태영 | H114: =IF(D114="석사과정",660000*9,900000*9) -> 5940000
A115: 114 | B115: 202528015 | C115: 권준형 | D115: 석사과정 | E115: 1 | F115: 대한민국 | H115: =IF(D115="석사과정",660000*9,900000*9) -> 5940000
A116: 115 | B116: 202415299 | C116: 권진성 | D116: 박사과정 | E116: 2 | F116: 대한민국 | G116: 정종국 | H116: =IF(D116="석사과정",660000*9,900000*9) -> 8100000
A117: 116 | B117: 202416127 | C117: 권찬우 | D117: 석사과정 | E117: 3 | F117: 대한민국 | G117: 홍석호 | H117: =IF(D117="석사과정",660000*9,900000*9) -> 5940000
A118: 117 | B118: 202416105 | C118: 권태희 | D118: 석사과정 | E118: 3 | F118: 대한민국 | G118: 정은경 | H118: =IF(D118="석사과정",660000*9,900000*9) -> 5940000
A119: 118 | B119: 202415325 | C119: 권혁렬 | D119: 박사과정 | E119: 2 | F119: 대한민국 | G119: 이경선 | H119: =IF(D119="석사과정",660000*9,900000*9) -> 8100000
A120: 119 | B120: 202428061 | C120: 권혁수 | D120: 석사과정 | E120: 2 | F120: 대한민국 | G120: 정의국 | H120: =IF(D120="석사과정",660000*9,900000*9) -> 5940000
A121: 120 | B121: 202528517 | C121: 권혁일 | D121: 박사과정 | E121: 1 | F121: 대한민국 | H121: =IF(D121="석사과정",660000*9,900000*9) -> 8100000
A122: 121 | B122: 202315127 | C122: 권형표 | D122: 박사과정 | E122: 4 | F122: 대한민국 | G122: 이진용 | H122: =IF(D122="석사과정",660000*9,900000*9) -> 8100000
A123: 122 | B123: 202528518 | C123: 권혜준 | D123: 박사과정 | E123: 1 | F123: 대한민국 | H123: =IF(D123="석사과정",660000*9,900000*9) -> 8100000
A124: 123 | B124: 202115103 | C124: 권흥수 | D124: 박사과정 | E124: 4 | F124: 대한민국 | G124: 이원규 | H124: =IF(D124="석사과정",660000*9,900000*9) -> 8100000
A125: 124 | B125: 202415337 | C125: 근여 | D125: 박사과정 | E125: 2 | F125: 중국 | G125: 박은옥 | H125: =IF(D125="석사과정",660000*9,900000*9) -> 8100000
A126: 125 | B126: 202516035 | C126: 기메레이 슬라브 | D126: 석사과정 | E126: 1 | F126: 네팔 | G126: 기윤 | H126: =IF(D126="석사과정",660000*9,900000*9) -> 5940000
A127: 126 | B127: 202528011 | C127: 기미레 가우라브 | D127: 석사과정 | E127: 1 | F127: 네팔 | H127: =IF(D127="석사과정",660000*9,900000*9) -> 5940000
A128: 127 | B128: 202315249 | C128: 기범근 | D128: 박사과정 | E128: 4 | F128: 대한민국 | G128: 박용재 | H128: =IF(D128="석사과정",660000*9,900000*9) -> 8100000
A129: 128 | B129: 202416362 | C129: 기서현 | D129: 석사과정 | E129: 3 | F129: 대한민국 | G129: 전강민 | H129: =IF(D129="석사과정",660000*9,900000*9) -> 5940000
A130: 129 | B130: 202316562 | C130: 기시맹 | D130: 석사과정 | E130: 4 | F130: 중국 | G130: 장경풍 | H130: =IF(D130="석사과정",660000*9,900000*9) -> 5940000
A131: 130 | B131: 202415107 | C131: 길문수 | D131: 박사과정 | E131: 3 | F131: 대한민국 | G131: 장희순 | H131: =IF(D131="석사과정",660000*9,900000*9) -> 8100000
A132: 131 | B132: 202415323 | C132: 김가나 | D132: 박사과정 | E132: 2 | F132: 대한민국 | G132: 이동하 | H132: =IF(D132="석사과정",660000*9,900000*9) -> 8100000
A133: 132 | B133: 202416196 | C133: 김가윤 | D133: 석사과정 | E133: 3 | F133: 대한민국 | G133: 정종국 | H133: =IF(D133="석사과정",660000*9,900000*9) -> 5940000
A134: 133 | B134: 202516326 | C134: 김가현 | D134: 석사과정 | E134: 1 | F134: 대한민국 | G134: 김도인 | H134: =IF(D134="석사과정",660000*9,900000*9) -> 5940000
A135: 134 | B135: 202416322 | C135: 김건우 | D135: 석사과정 | E135: 3 | F135: 대한민국 | G135: 박주병 | H135: =IF(D135="석사과정",660000*9,900000*9) -> 5940000
A136: 135 | B136: 202328517 | C136: 김건우 | D136: 박사과정 | E136: 4 | F136: 대한민국 | G136: 장종식 | H136: =IF(D136="석사과정",660000*9,900000*9) -> 8100000
A137: 136 | B137: 202516327 | C137: 김건호 | D137: 석사과정 | E137: 1 | F137: 대한민국 | G137: 윤현중 | H137: =IF(D137="석사과정",660000*9,900000*9) -> 5940000
A138: 137 | B138: 202316434 | C138: 김건호 | D138: 석사과정 | E138: 4 | F138: 대한민국 | G138: 김대기 | H138: =IF(D138="석사과정",660000*9,900000*9) -> 5940000
A139: 138 | B139: 202516328 | C139: 김건휘 | D139: 석사과정 | E139: 1 | F139: 대한민국 | G139: 문양세 | H139: =IF(D139="석사과정",660000*9,900000*9) -> 5940000
... A148: 147 | B148: 202416404 | C148: 김경빈 | D148: 석사과정 | E148: 3 | F148: 대한민국 | G148: 김정범 | H148: =IF(D148="석사과정",660000*9,900000*9) -> 5940000
A149: 148 | B149: 202315502 | C149: 김경수 | D149: 통합과정 | E149: 4 | F149: 대한민국 | H149: =IF(D149="석사과정",660000*9,900000*9) -> 8100000
A150: 149 | B150: 202215524 | C150: 김경원 | D150: 통합과정 | E150: 6 | F150: 대한민국 | G150: 변정호 | H150: =IF(D150="석사과정",660000*9,900000*9) -> 8100000
A151: 150 | B151: 202415136 | C151: 김경원 | D151: 박사과정 | E151: 3 | F151: 대한민국 | G151: 강호민 | H151: =IF(D151="석사과정",660000*9,900000*9) -> 8100000
A152: 151 | B152: 202516426 | C152: 김경주 | D152: 석사과정 | E152: 1 | F152: 대한민국 | G152: 배준성 | H152: =IF(D152="석사과정",660000*9,900000*9) -> 5940000
A153: 152 | B153: 202516408 | C153: 김경진 | D153: 석사과정 | E153: 1 | F153: 대한민국 | G153: 김대현 | H153: =IF(D153="석사과정",660000*9,900000*9) -> 5940000
A154: 153 | B154: 202416531 | C154: 김경진 | D154: 석사과정 | E154: 2 | F154: 대한민국 | G154: 우흥명 | H154: =IF(D154="석사과정",660000*9,900000*9) -> 5940000
A155: 154 | B155: 202415142 | C155: 김경환 | D155: 박사과정 | E155: 3 | F155: 대한민국 | G155: 남우동 | H155: =IF(D155="석사과정",660000*9,900000*9) -> 8100000
A156: 155 | B156: 202415529 | C156: 김경희 | D156: 통합과정 | E156: 3 | F156: 대한민국 | G156: 최기영 | H156: =IF(D156="석사과정",660000*9,900000*9) -> 8100000
A157: 156 | B157: 202516229 | C157: 김관휘 | D157: 석사과정 | E157: 1 | F157: 대한민국 | G157: 박홍성 | H157: =IF(D157="석사과정",660000*9,900000*9) -> 5940000
A158: 157 | B158: 202416336 | C158: 김광모 | D158: 석사과정 | E158: 3 | F158: 대한민국 | G158: 남주석 | H158: =IF(D158="석사과정",660000*9,900000*9) -> 5940000
A159: 158 | B159: 202215523 | C159: 김광문 | D159: 통합과정 | E159: 6 | F159: 대한민국 | G159: 김진수 | H159: =IF(D159="석사과정",660000*9,900000*9) -> 8100000
A160: 159 | B160: 202415231 | C160: 김광일 | D160: 박사과정 | E160: 3 | F160: 대한민국 | G160: 박성민 | H160: =IF(D160="석사과정",660000*9,900000*9) -> 8100000
A161: 160 | B161: 202416468 | C161: 김광호 | D161: 석사과정 | E161: 3 | F161: 대한민국 | G161: 정진근 | H161: =IF(D161="석사과정",660000*9,900000*9) -> 5940000
... A179: 178 | B179: 202516231 | C179: 김다예 | D179: 석사과정 | E179: 1 | F179: 대한민국 | G179: 김용식 | H179: =IF(D179="석사과정",660000*9,900000*9) -> 5940000
...
